BEGIN:VCALENDAR
VERSION:2.0
PRODID:-//Heady as Funk - ECPv6.15.20//NONSGML v1.0//EN
CALSCALE:GREGORIAN
METHOD:PUBLISH
X-WR-CALNAME:Heady as Funk
X-ORIGINAL-URL:https://headyasfunk.com
X-WR-CALDESC:Events for Heady as Funk
REFRESH-INTERVAL;VALUE=DURATION:PT1H
X-Robots-Tag:noindex
X-PUBLISHED-TTL:PT1H
BEGIN:VTIMEZONE
TZID:America/Los_Angeles
BEGIN:DAYLIGHT
TZOFFSETFROM:-0800
TZOFFSETTO:-0700
TZNAME:PDT
DTSTART:20250309T100000
END:DAYLIGHT
BEGIN:STANDARD
TZOFFSETFROM:-0700
TZOFFSETTO:-0800
TZNAME:PST
DTSTART:20251102T090000
END:STANDARD
BEGIN:DAYLIGHT
TZOFFSETFROM:-0800
TZOFFSETTO:-0700
TZNAME:PDT
DTSTART:20260308T100000
END:DAYLIGHT
BEGIN:STANDARD
TZOFFSETFROM:-0700
TZOFFSETTO:-0800
TZNAME:PST
DTSTART:20261101T090000
END:STANDARD
BEGIN:DAYLIGHT
TZOFFSETFROM:-0800
TZOFFSETTO:-0700
TZNAME:PDT
DTSTART:20270314T100000
END:DAYLIGHT
BEGIN:STANDARD
TZOFFSETFROM:-0700
TZOFFSETTO:-0800
TZNAME:PST
DTSTART:20271107T090000
END:STANDARD
END:VTIMEZONE
BEGIN:VEVENT
DTSTART;TZID=America/Los_Angeles:20260424T200000
DTEND;TZID=America/Los_Angeles:20260424T223000
DTSTAMP:20260424T014914
CREATED:20260104T064725Z
LAST-MODIFIED:20260104T064727Z
UID:10001845-1777060800-1777069800@headyasfunk.com
SUMMARY:TAUK
DESCRIPTION:TAUK has been painting with sound for nearly a decade now\, pushing boundaries and reinventing themselves every chance they get. Founded by Dolan\, Jalbert\, and Carter\, who began playing together as middle schoolers on Long Island\, the band landed on its present incarnation in 2012\, when college pal Teel joined full time. \n\n\n\nSince then\, the quartet has gone on to tour with the likes of Umphrey’s McGee\, Widespread Panic\, and Lettuce\, landed festival slots everywhere from Bonnaroo to Electric Forest\, racked up millions of streams across platforms\, and garnered extensive critical praise with a series of widely lauded studio and live albums. The Washington Post hailed the band’s music as “a hard-charging\, often melodic fusion that—thanks to a penchant for improv—offers limitless possibilities\,” while Keyboard Magazine declared that their sound “doesn’t adhere to a single genre but\, instead\, creates its own\,” and Relix dubbed them “an incredibly impressive ensemble of talent. \n\n\n\nDoors 6pm
URL:https://headyasfunk.com/show/tauk-venice-west-2026/
LOCATION:The Venice West\, 1717 Lincoln Boulevard\, Los Angeles\, CA\, 90291\, United States
CATEGORIES:Funk,Jam Band,Psych
ATTACH;FMTTYPE=image/jpeg:https://headyasfunk.com/wp-content/uploads/2026/01/tauk-tour-2026-e1767509136312.webp
GEO:33.9963162;-118.4578268
X-APPLE-STRUCTURED-LOCATION;VALUE=URI;X-ADDRESS=The Venice West 1717 Lincoln Boulevard Los Angeles CA 90291 United States;X-APPLE-RADIUS=500;X-TITLE=1717 Lincoln Boulevard:geo:-118.4578268,33.9963162
END:VEVENT
END:VCALENDAR